BEGIN:VCALENDAR
VERSION:2.0
PRODID:-//WHELC - ECPv6.15.20//NONSGML v1.0//EN
CALSCALE:GREGORIAN
METHOD:PUBLISH
X-WR-CALNAME:WHELC
X-ORIGINAL-URL:https://whelc.org.uk
X-WR-CALDESC:Events for WHELC
REFRESH-INTERVAL;VALUE=DURATION:PT1H
X-Robots-Tag:noindex
X-PUBLISHED-TTL:PT1H
BEGIN:VTIMEZONE
TZID:UTC
BEGIN:STANDARD
TZOFFSETFROM:+0000
TZOFFSETTO:+0000
TZNAME:UTC
DTSTART:20250101T000000
END:STANDARD
END:VTIMEZONE
BEGIN:VEVENT
DTSTART;TZID=UTC:20260529T130000
DTEND;TZID=UTC:20260529T150000
DTSTAMP:20260425T150244
CREATED:20260404T092916Z
LAST-MODIFIED:20260404T092917Z
UID:2609-1780059600-1780066800@whelc.org.uk
SUMMARY:Beccles library meet up: Suffolk wildlife theme
DESCRIPTION:There will be three areas of activity – drawing\, junk model making and lego. I’ll pre-book some books addressing that month’s theme (you’re welcome to too!) and the children will also be encouraged to have a look in the library for books. Then we’ll spend a couple of hours drawing\, sticking or building and at the end the children are welcome to have their picture taken with their creation. I’ll provide an option to digitally add this photo to a certificate which will be emailed to the parent so they can file it or print it out. For older children\, this could be an opportunity to meet new friends\, maybe head out to the market (Beccles market runs on Fridays)\, the shops or the shelter beside Wetherspoons and hang out for a couple of hours knowing their parents are fairly nearby – great if parents need to be with younger siblings. \n\n\n\nCome along and see who’s there – the room is completely see-through so you can nonchalantly wander into the library\, see what we’re up to in there and then choose whether to come in. \n\n\n\nThis is a free event\, but not a drop off. Parents will need to be responsible for their children – the library room is a great space for socialising\, but sadly is not appropriate for boisterous or loud behaviour. I am checking to see if we’ll have access to the outside space to the side of the library if children need to let off steam.
URL:https://whelc.org.uk/event/beccles-library-meet-up-suffolk-wildlife-theme/
LOCATION:Beccles Library\, Blyburgate\, Beccles\, NR349TB
CATEGORIES:workshops
ATTACH;FMTTYPE=image/png:https://whelc.org.uk/wp-content/uploads/2026/04/Dragon-and-library-in-Suffolk-sky.png
ORGANIZER;CN="Felicity McAlindon":MAILTO:admin@whelc.org.uk
END:VEVENT
END:VCALENDAR