BEGIN:VCALENDAR
VERSION:2.0
PRODID:-//WHELC - ECPv6.15.20//NONSGML v1.0//EN
CALSCALE:GREGORIAN
METHOD:PUBLISH
X-ORIGINAL-URL:https://whelc.org.uk
X-WR-CALDESC:Events for WHELC
REFRESH-INTERVAL;VALUE=DURATION:PT1H
X-Robots-Tag:noindex
X-PUBLISHED-TTL:PT1H
BEGIN:VTIMEZONE
TZID:UTC
BEGIN:STANDARD
TZOFFSETFROM:+0000
TZOFFSETTO:+0000
TZNAME:UTC
DTSTART:20240101T000000
END:STANDARD
END:VTIMEZONE
BEGIN:VEVENT
DTSTART;TZID=UTC:20250923T100000
DTEND;TZID=UTC:20250923T105000
DTSTAMP:20260425T164706
CREATED:20240716T194714Z
LAST-MODIFIED:20250828T162747Z
UID:772-1758621600-1758624600@whelc.org.uk
SUMMARY:English age 10+
DESCRIPTION:
URL:https://whelc.org.uk/event/advanced-english-age-10-4/
LOCATION:Bungay Community Centre\, Bungay Community Centre\, Old Grammar Lane\, Bungay\, NR35 1PU
CATEGORIES:English,English age 10+,Sessions
ORGANIZER;CN="Sarah Wormald":MAILTO:sarahwormald4@gmail.com
END:VEVENT
BEGIN:VEVENT
DTSTART;TZID=UTC:20250923T100000
DTEND;TZID=UTC:20250923T105000
DTSTAMP:20260425T164706
CREATED:20240423T205305Z
LAST-MODIFIED:20250630T143705Z
UID:113-1758621600-1758624600@whelc.org.uk
SUMMARY:Maths age 5+
DESCRIPTION:
URL:https://whelc.org.uk/event/basic-maths-age-5-2/
LOCATION:Bungay Community Centre\, Bungay Community Centre\, Old Grammar Lane\, Bungay\, NR35 1PU
CATEGORIES:Maths,Maths age 5+,Sessions
ORGANIZER;CN="Mark Yeowell and Dawn Grieve":MAILTO:enquiries@tutoreast.co.uk
END:VEVENT
BEGIN:VEVENT
DTSTART;TZID=UTC:20250919T120000
DTEND;TZID=UTC:20250919T125000
DTSTAMP:20260425T164706
CREATED:20250228T214332Z
LAST-MODIFIED:20250630T072259Z
UID:1227-1758283200-1758286200@whelc.org.uk
SUMMARY:Art age 5+
DESCRIPTION:
URL:https://whelc.org.uk/event/art-age-5-3/
LOCATION:Seagull Theatre\, Pakefield\, Seagull Theatre\, 19-75 Morton Road\, Pakefield\, Lowestoft\, NR33 0GH
CATEGORIES:Art,Sessions
ORGANIZER;CN="Rachel Copperthwaite":MAILTO:r.copperthwaite@yahoo.com
END:VEVENT
BEGIN:VEVENT
DTSTART;TZID=UTC:20250916T110000
DTEND;TZID=UTC:20250916T115000
DTSTAMP:20260425T164706
CREATED:20250702T082039Z
LAST-MODIFIED:20250702T082126Z
UID:1780-1758020400-1758023400@whelc.org.uk
SUMMARY:English age 5+
DESCRIPTION:
URL:https://whelc.org.uk/event/english-age-5/
LOCATION:Bungay Community Centre\, Bungay Community Centre\, Old Grammar Lane\, Bungay\, NR35 1PU
CATEGORIES:English,English age 5+
ORGANIZER;CN="Sarah Wormald":MAILTO:sarahwormald4@gmail.com
END:VEVENT
BEGIN:VEVENT
DTSTART;TZID=UTC:20250916T110000
DTEND;TZID=UTC:20250916T115000
DTSTAMP:20260425T164706
CREATED:20240425T082359Z
LAST-MODIFIED:20250702T085116Z
UID:192-1758020400-1758023400@whelc.org.uk
SUMMARY:Maths age 10+
DESCRIPTION:
URL:https://whelc.org.uk/event/advanced-maths-age-10/
LOCATION:Bungay Community Centre\, Bungay Community Centre\, Old Grammar Lane\, Bungay\, NR35 1PU
CATEGORIES:Maths,Maths age 10+,Sessions
ORGANIZER;CN="Mark Yeowell and Dawn Grieve":MAILTO:enquiries@tutoreast.co.uk
END:VEVENT
BEGIN:VEVENT
DTSTART;TZID=UTC:20250916T100000
DTEND;TZID=UTC:20250916T105000
DTSTAMP:20260425T164706
CREATED:20250327T102344Z
LAST-MODIFIED:20250828T162724Z
UID:1327-1758016800-1758019800@whelc.org.uk
SUMMARY:English age 10+
DESCRIPTION:
URL:https://whelc.org.uk/event/advanced-english-age-10-5/
LOCATION:Bungay Community Centre\, Bungay Community Centre\, Old Grammar Lane\, Bungay\, NR35 1PU
CATEGORIES:English,English age 10+,Sessions
END:VEVENT
BEGIN:VEVENT
DTSTART;TZID=UTC:20250916T100000
DTEND;TZID=UTC:20250916T105000
DTSTAMP:20260425T164706
CREATED:20240514T063203Z
LAST-MODIFIED:20250630T143602Z
UID:119-1758016800-1758019800@whelc.org.uk
SUMMARY:Maths age 5+
DESCRIPTION:
URL:https://whelc.org.uk/event/basic-maths-age-5-5/
LOCATION:Bungay Community Centre\, Bungay Community Centre\, Old Grammar Lane\, Bungay\, NR35 1PU
CATEGORIES:Maths,Maths age 5+,Sessions
ORGANIZER;CN="Mark Yeowell and Dawn Grieve":MAILTO:enquiries@tutoreast.co.uk
END:VEVENT
BEGIN:VEVENT
DTSTART;TZID=UTC:20250912T130000
DTEND;TZID=UTC:20250912T135000
DTSTAMP:20260425T164706
CREATED:20250228T214519Z
LAST-MODIFIED:20250630T072047Z
UID:1229-1757682000-1757685000@whelc.org.uk
SUMMARY:Art age 5+
DESCRIPTION:
URL:https://whelc.org.uk/event/art-age-5-4/
LOCATION:Seagull Theatre\, Pakefield\, Seagull Theatre\, 19-75 Morton Road\, Pakefield\, Lowestoft\, NR33 0GH
CATEGORIES:Art,Sessions
ORGANIZER;CN="Rachel Copperthwaite":MAILTO:r.copperthwaite@yahoo.com
END:VEVENT
BEGIN:VEVENT
DTSTART;TZID=UTC:20250909T110000
DTEND;TZID=UTC:20250909T115000
DTSTAMP:20260425T164706
CREATED:20240425T082632Z
LAST-MODIFIED:20250702T083500Z
UID:194-1757415600-1757418600@whelc.org.uk
SUMMARY:Maths age 10+
DESCRIPTION:
URL:https://whelc.org.uk/event/advanced-maths-age-10-2/
LOCATION:Bungay Community Centre\, Bungay Community Centre\, Old Grammar Lane\, Bungay\, NR35 1PU
CATEGORIES:Maths,Maths age 10+,Sessions
ORGANIZER;CN="Mark Yeowell and Dawn Grieve":MAILTO:enquiries@tutoreast.co.uk
END:VEVENT
BEGIN:VEVENT
DTSTART;TZID=UTC:20250909T110000
DTEND;TZID=UTC:20250909T115000
DTSTAMP:20260425T164706
CREATED:20240423T193429Z
LAST-MODIFIED:20250702T081838Z
UID:78-1757415600-1757418600@whelc.org.uk
SUMMARY:English age 5+
DESCRIPTION:
URL:https://whelc.org.uk/event/basic-english-age-5-6/
LOCATION:Bungay Community Centre\, Bungay Community Centre\, Old Grammar Lane\, Bungay\, NR35 1PU
CATEGORIES:English,English age 5+,Sessions
ORGANIZER;CN="Sarah Wormald":MAILTO:sarahwormald4@gmail.com
END:VEVENT
BEGIN:VEVENT
DTSTART;TZID=UTC:20250909T100000
DTEND;TZID=UTC:20250909T105000
DTSTAMP:20260425T164706
CREATED:20250327T102538Z
LAST-MODIFIED:20250828T162639Z
UID:1330-1757412000-1757415000@whelc.org.uk
SUMMARY:English age 10+
DESCRIPTION:
URL:https://whelc.org.uk/event/advanced-english-age-10-6/
LOCATION:Bungay Community Centre\, Bungay Community Centre\, Old Grammar Lane\, Bungay\, NR35 1PU
CATEGORIES:English,English age 10+,Sessions
ORGANIZER;CN="Sarah Wormald":MAILTO:sarahwormald4@gmail.com
END:VEVENT
BEGIN:VEVENT
DTSTART;TZID=UTC:20250909T100000
DTEND;TZID=UTC:20250909T105000
DTSTAMP:20260425T164706
CREATED:20240514T063722Z
LAST-MODIFIED:20250702T082934Z
UID:115-1757412000-1757415000@whelc.org.uk
SUMMARY:Maths age 5+
DESCRIPTION:
URL:https://whelc.org.uk/event/basic-maths-age-5-3/
LOCATION:Bungay Community Centre\, Bungay Community Centre\, Old Grammar Lane\, Bungay\, NR35 1PU
CATEGORIES:Maths,Maths age 5+,Sessions
ORGANIZER;CN="Mark Yeowell and Dawn Grieve":MAILTO:enquiries@tutoreast.co.uk
END:VEVENT
BEGIN:VEVENT
DTSTART;TZID=UTC:20250905T130000
DTEND;TZID=UTC:20250905T135000
DTSTAMP:20260425T164706
CREATED:20250228T214641Z
LAST-MODIFIED:20250828T163333Z
UID:1231-1757077200-1757080200@whelc.org.uk
SUMMARY:Art age 5+
DESCRIPTION:
URL:https://whelc.org.uk/event/art-age-5-5/
LOCATION:Seagull Theatre\, Pakefield\, Seagull Theatre\, 19-75 Morton Road\, Pakefield\, Lowestoft\, NR33 0GH
CATEGORIES:Art,Sessions
ORGANIZER;CN="Rachel Copperthwaite":MAILTO:r.copperthwaite@yahoo.com
END:VEVENT
BEGIN:VEVENT
DTSTART;TZID=UTC:20250826T100000
DTEND;TZID=UTC:20250826T130000
DTSTAMP:20260425T164706
CREATED:20250624T200526Z
LAST-MODIFIED:20250624T200527Z
UID:1705-1756202400-1756213200@whelc.org.uk
SUMMARY:Once Upon a Tune (age 5+)
DESCRIPTION:Acclaimed violinist Caroline Speca and best selling author and illustrator James Mayhew are offering a quite incredible performance for us. They will present several stories that are carefully researched to provide an authentic version of the original inspiration for the music. Caroline performs on her violin while James paints illustrations on his easel so all can see his paintings grow and develop in synchronicity with the music. \n\n\n\nWe have the option for the children to paint live to music after seeing James and Caroline perform.  The suggestion is for black paper and pastels.  If you would like me to source some A3 black paper and a basic set of pastels\, I can do this for another £5.00 \n\n\n\nAnybody fancy this at Bungay Community Centre in August? Time and date tbc. Cost could be £15.00 for a two hour session.  There will be a third hour to socialise and have a picnic. If I get more than minimum numbers\, I can issue a part refund on the day! Age 5+\, parents can accompany.
URL:https://whelc.org.uk/event/once-upon-a-tune-age-5/
LOCATION:Bungay Community Centre\, Bungay Community Centre\, Old Grammar Lane\, Bungay\, NR35 1PU
CATEGORIES:Independent events
ATTACH;FMTTYPE=image/jpeg:https://whelc.org.uk/wp-content/uploads/2025/06/once-upon-a-tune.jpg
END:VEVENT
BEGIN:VEVENT
DTSTART;TZID=UTC:20250819T130000
DTEND;TZID=UTC:20250819T135000
DTSTAMP:20260425T164706
CREATED:20250626T192541Z
LAST-MODIFIED:20250817T081609Z
UID:1726-1755608400-1755611400@whelc.org.uk
SUMMARY:Lush Workshop age 5+ FULL
DESCRIPTION:Come and get hands on with Lush products and learn a little about how they are made with home educating dad and manager of the Norwich Lush shop\, Paul Fayers. During the session we will be playing with the jelly washes\, getting creative with play doh soap\, experimenting with solid natural moisturisers and making our own ‘Toby’s magic cow bath bomb’ to take home\, alongside a small Lush goodie bag. Recommended for 5 – 12 year olds\, but older children welcome. Please inform us of any allergies – please contact Fritha Fayers directly on frithafayers@hotmail.co.uk
URL:https://whelc.org.uk/event/lush-workshop-age-5-3/
LOCATION:Bungay Community Centre\, Bungay Community Centre\, Old Grammar Lane\, Bungay\, NR35 1PU
CATEGORIES:workshops
ATTACH;FMTTYPE=image/jpeg:https://whelc.org.uk/wp-content/uploads/2025/06/lush-picture.jpeg
END:VEVENT
BEGIN:VEVENT
DTSTART;TZID=UTC:20250819T110000
DTEND;TZID=UTC:20250819T115000
DTSTAMP:20260425T164706
CREATED:20250626T091632Z
LAST-MODIFIED:20250626T192621Z
UID:1718-1755601200-1755604200@whelc.org.uk
SUMMARY:Lush Workshop age 5+FULL
DESCRIPTION:Come and get hands on with Lush products and learn a little about how they are made with home educating dad and manager of the Norwich Lush shop\, Paul Fayers. During the session we will be playing with the jelly washes\, getting creative with play doh soap\, experimenting with solid natural moisturisers and making our own ‘Toby’s magic cow bath bomb’ to take home\, alongside a small Lush goodie bag. Recommended for 5 – 12 year olds\, but older children welcome. Please inform us of any allergies – please contact Fritha Fayers directly on frithafayers@hotmail.co.uk
URL:https://whelc.org.uk/event/lush-workshop-age-5-2/
LOCATION:Bungay Community Centre\, Bungay Community Centre\, Old Grammar Lane\, Bungay\, NR35 1PU
CATEGORIES:workshops
ATTACH;FMTTYPE=image/jpeg:https://whelc.org.uk/wp-content/uploads/2025/06/lush-picture.jpeg
END:VEVENT
BEGIN:VEVENT
DTSTART;TZID=UTC:20250819T100000
DTEND;TZID=UTC:20250819T105000
DTSTAMP:20260425T164706
CREATED:20250626T091348Z
LAST-MODIFIED:20250627T172314Z
UID:1713-1755597600-1755600600@whelc.org.uk
SUMMARY:Lush Workshop age 5+ FULL
DESCRIPTION:Come and get hands on with Lush products and learn a little about how they are made with home educating dad and manager of the Norwich Lush shop\, Paul Fayers. During the session we will be playing with the jelly washes\, getting creative with play doh soap\, experimenting with solid natural moisturisers and making our own ‘Toby’s magic cow bath bomb’ to take home\, alongside a small Lush goodie bag. Recommended for 5 – 12 year olds\, but older children welcome. Please inform us of any allergies – please contact Fritha Fayers directly on frithafayers@hotmail.co.uk
URL:https://whelc.org.uk/event/lush-workshop-age-5/
LOCATION:Bungay Community Centre\, Bungay Community Centre\, Old Grammar Lane\, Bungay\, NR35 1PU
CATEGORIES:workshops
ATTACH;FMTTYPE=image/jpeg:https://whelc.org.uk/wp-content/uploads/2025/06/lush-picture.jpeg
END:VEVENT
BEGIN:VEVENT
DTSTART;TZID=UTC:20250812T100000
DTEND;TZID=UTC:20250812T105000
DTSTAMP:20260425T164706
CREATED:20250624T193710Z
LAST-MODIFIED:20250919T193829Z
UID:1690-1754992800-1754995800@whelc.org.uk
SUMMARY:Science Mania 'Rockets' (age 5+)
DESCRIPTION:I’ve seen Science Mania has been running groups in South Suffolk and going from the Facebook comments on the posts\, they seem to be a good opportunity. They’ve said that they would come to us regularly from October if we like them so we’ll treat this as a ‘try them out\, they try us out’ session. The session will be about Rockets.
URL:https://whelc.org.uk/event/science-mania-rockets-age-5/
LOCATION:Bungay Community Centre\, Bungay Community Centre\, Old Grammar Lane\, Bungay\, NR35 1PU
CATEGORIES:workshops
ATTACH;FMTTYPE=image/avif:https://whelc.org.uk/wp-content/uploads/2025/06/science-mania.avif
END:VEVENT
BEGIN:VEVENT
DTSTART;TZID=UTC:20250805T110000
DTEND;TZID=UTC:20250805T115000
DTSTAMP:20260425T164706
CREATED:20250624T192015Z
LAST-MODIFIED:20250703T203038Z
UID:1683-1754391600-1754394600@whelc.org.uk
SUMMARY:The Arctic with Dr Anthony Speca (age 5+)
DESCRIPTION:An introduction to the Arctic for age 10+. Dr Speca teaches at UEA and the Norwich School. He has an extensive knowledge on the Arctic having lived and worked there. You can find more information about Anthony on his website: https://polaraspect.com/biography/ This is a taster session with a view to asking Dr Speca to take future sessions for WHELC. Dr Speca is also a Green Councillor and Chair of East Suffolk Council. He is a leading authority on lichen. \n\n\n\nLaird Peninsula : Baffin Island : Nunavut : Canada
URL:https://whelc.org.uk/event/the-artic-with-dr-speca-age-10/
LOCATION:Bungay Community Centre\, Bungay Community Centre\, Old Grammar Lane\, Bungay\, NR35 1PU
CATEGORIES:workshops
END:VEVENT
BEGIN:VEVENT
DTSTART;TZID=UTC:20250805T100000
DTEND;TZID=UTC:20250805T150000
DTSTAMP:20260425T164706
CREATED:20250712T093858Z
LAST-MODIFIED:20250712T093859Z
UID:1844-1754388000-1754406000@whelc.org.uk
SUMMARY:Wilderness & Bushcraft Day age 8-14
DESCRIPTION:
URL:https://whelc.org.uk/event/wilderness-bushcraft-day-age-8-14/
CATEGORIES:Independent events
END:VEVENT
BEGIN:VEVENT
DTSTART;TZID=UTC:20250805T100000
DTEND;TZID=UTC:20250805T105000
DTSTAMP:20260425T164706
CREATED:20250624T191520Z
LAST-MODIFIED:20250703T203111Z
UID:1677-1754388000-1754391000@whelc.org.uk
SUMMARY:The Arctic with Dr Anthony Speca (age 5+)
DESCRIPTION:An introduction to the Arctic for age 5+. Dr Speca teaches at UEA and the Norwich School. He has an extensive knowledge on the Arctic having lived and worked there. You can find more information about Anthony on his website: https://polaraspect.com/biography/ This is a taster session with a view to asking Dr Speca to take future sessions for WHELC. Dr Speca is also a Green Councillor and Chair of East Suffolk Council. He is a leading authority on lichen. \n\n\n\nLaird Peninsula : Baffin Island : Nunavut : Canada
URL:https://whelc.org.uk/event/the-arctic-with-dr-anthony-speca-age-5/
LOCATION:Bungay Community Centre\, Bungay Community Centre\, Old Grammar Lane\, Bungay\, NR35 1PU
CATEGORIES:workshops
END:VEVENT
BEGIN:VEVENT
DTSTART;TZID=UTC:20250731T100000
DTEND;TZID=UTC:20250731T150000
DTSTAMP:20260425T164706
CREATED:20250712T093720Z
LAST-MODIFIED:20250712T093721Z
UID:1841-1753956000-1753974000@whelc.org.uk
SUMMARY:Wilderness & Bushcraft Day age 11-16
DESCRIPTION:
URL:https://whelc.org.uk/event/wilderness-bushcraft-day-age-11-16/
CATEGORIES:Independent events
END:VEVENT
BEGIN:VEVENT
DTSTART;TZID=UTC:20250726T130000
DTEND;TZID=UTC:20250726T153000
DTSTAMP:20260425T164706
CREATED:20250624T194712Z
LAST-MODIFIED:20250712T093438Z
UID:1700-1753534800-1753543800@whelc.org.uk
SUMMARY:Earthwake Art Evo age 10-16
DESCRIPTION:
URL:https://whelc.org.uk/event/1700/
CATEGORIES:Independent events
END:VEVENT
BEGIN:VEVENT
DTSTART;TZID=UTC:20250726T103000
DTEND;TZID=UTC:20250726T120000
DTSTAMP:20260425T164706
CREATED:20250712T094716Z
LAST-MODIFIED:20250712T094717Z
UID:1847-1753525800-1753531200@whelc.org.uk
SUMMARY:Earthwake Art Club age 5-9 years
DESCRIPTION:
URL:https://whelc.org.uk/event/earthwake-art-club-age-5-9-years/
CATEGORIES:Independent events
END:VEVENT
BEGIN:VEVENT
DTSTART;TZID=UTC:20250725T130000
DTEND;TZID=UTC:20250725T135000
DTSTAMP:20260425T164706
CREATED:20250228T214750Z
LAST-MODIFIED:20250630T071634Z
UID:1233-1753448400-1753451400@whelc.org.uk
SUMMARY:Art age 5+
DESCRIPTION:
URL:https://whelc.org.uk/event/art-age-5-6/
LOCATION:Seagull Theatre\, Pakefield\, Seagull Theatre\, 19-75 Morton Road\, Pakefield\, Lowestoft\, NR33 0GH
CATEGORIES:Art,Sessions
ORGANIZER;CN="Rachel Copperthwaite":MAILTO:r.copperthwaite@yahoo.com
END:VEVENT
BEGIN:VEVENT
DTSTART;TZID=UTC:20250725T120000
DTEND;TZID=UTC:20250725T125000
DTSTAMP:20260425T164706
CREATED:20240716T133011Z
LAST-MODIFIED:20250702T080546Z
UID:661-1753444800-1753447800@whelc.org.uk
SUMMARY:Drama age 5+
DESCRIPTION:
URL:https://whelc.org.uk/event/drama-age-5/
LOCATION:Seagull Theatre\, Pakefield\, Seagull Theatre\, 19-75 Morton Road\, Pakefield\, Lowestoft\, NR33 0GH
CATEGORIES:Drama,Drama age 5+,Sessions
END:VEVENT
BEGIN:VEVENT
DTSTART;TZID=UTC:20250722T110000
DTEND;TZID=UTC:20250722T115000
DTSTAMP:20260425T164706
CREATED:20240514T063454Z
LAST-MODIFIED:20250702T081746Z
UID:85-1753182000-1753185000@whelc.org.uk
SUMMARY:English age 5+
DESCRIPTION:
URL:https://whelc.org.uk/event/basic-english-age-5-7/
LOCATION:Bungay Community Centre\, Bungay Community Centre\, Old Grammar Lane\, Bungay\, NR35 1PU
CATEGORIES:English,English age 5+,Sessions
ORGANIZER;CN="Sarah Wormald":MAILTO:sarahwormald4@gmail.com
END:VEVENT
BEGIN:VEVENT
DTSTART;TZID=UTC:20250722T110000
DTEND;TZID=UTC:20250722T115000
DTSTAMP:20260425T164706
CREATED:20240514T063203Z
LAST-MODIFIED:20250702T083148Z
UID:109-1753182000-1753185000@whelc.org.uk
SUMMARY:Maths age 10+
DESCRIPTION:
URL:https://whelc.org.uk/event/basic-maths-age-10-5/
LOCATION:Bungay Community Centre\, Bungay Community Centre\, Old Grammar Lane\, Bungay\, NR35 1PU
CATEGORIES:Maths,Maths age 10+,Sessions
ORGANIZER;CN="Mark Yeowell and Dawn Grieve":MAILTO:enquiries@tutoreast.co.uk
END:VEVENT
BEGIN:VEVENT
DTSTART;TZID=UTC:20250722T100000
DTEND;TZID=UTC:20250724T153000
DTSTAMP:20260425T164706
CREATED:20250712T094951Z
LAST-MODIFIED:20250712T095031Z
UID:1850-1753178400-1753371000@whelc.org.uk
SUMMARY:Earthwake Summer Outdoor Activity Days age 5-11
DESCRIPTION:
URL:https://whelc.org.uk/event/earthwake-summer-outdoor-activity-days-age-5-11/
CATEGORIES:Independent events
ATTACH;FMTTYPE=image/png:https://whelc.org.uk/wp-content/uploads/2025/07/Ilketshall-HAF-days-poster-summer-2025.png
END:VEVENT
BEGIN:VEVENT
DTSTART;TZID=UTC:20250722T100000
DTEND;TZID=UTC:20250722T105000
DTSTAMP:20260425T164706
CREATED:20250415T160812Z
LAST-MODIFIED:20250627T182909Z
UID:1405-1753178400-1753181400@whelc.org.uk
SUMMARY:English age 10+
DESCRIPTION:
URL:https://whelc.org.uk/event/advanced-english-age-10-7/
LOCATION:Bungay Community Centre\, Bungay Community Centre\, Old Grammar Lane\, Bungay\, NR35 1PU
CATEGORIES:English,English age 10+,Sessions
ORGANIZER;CN="Sarah Wormald":MAILTO:sarahwormald4@gmail.com
END:VEVENT
END:VCALENDAR